BEGIN:VCALENDAR
VERSION:2.0
PRODID:-//Contratero//ES
CALSCALE:GREGORIAN
METHOD:PUBLISH
BEGIN:VEVENT
UID:32 DG/22@contratero.es
DTSTAMP:20260423T035027Z
DTSTART:20220225T235959
DTEND:20220226T005959
SUMMARY:Cierre: Servicio de apoyo en los procesos selectivos de di
DESCRIPTION:Servicio de apoyo en los procesos selectivos de diferentes categorías estatutarias correspondientes a las ofertas públicas de empleo de 2018\, 2019\, 2020 y 2021 del Servicio Aragonés de Salud a desarro...\\n\\nOrganismo: Servicio Aragonés de Salud (SALUD)\\n\\nVer en Contratero: https://contratero.es/contracts/32 DG/22
URL:https://contratero.es/contracts/32 DG/22
STATUS:CONFIRMED
BEGIN:VALARM
TRIGGER:-P1D
ACTION:DISPLAY
DESCRIPTION:Recordatorio: Servicio de apoyo en los proce
END:VALARM
END:VEVENT
END:VCALENDAR